Workbook

Sheet Euroluokkien päästöt
A1: Table 3-20 Tier 2 emission factors for heavy-duty vehicles, NFR 1.A.3.b.iii
A2: Type | B2: Technology | C2: CO | D2: NMVOC | E2: NOX | F2: N2O | G2: NH3 | H2: Pb | I2: CO2 lube | J2: PM2.5 | K2: ID(1,2,3,cd) P | L2: B(k)F | M2: B(b)F | N2: B(a)P
A3: Units | C3: g/km | D3: g/km | E3: g/km | F3: g/km | G3: g/km | H3: g/km | I3: g/km | J3: g/km | K3: g/km | L3: g/km | M3: g/km | N3: g/km
A4: Notes | D4: Given as THC-CH4 | E4: Given as NO2 equivalent | I4: due to lube oil | J4: PM2.5=P M10=TSP
A5: Gasoline >3.5 t | B5: Conventional | C5: 59.5 | D5: 5.25 | E5: 6.60 | F5: 0.006 | G5: 0.0019 | H5: 5.84E-06 | I5: 1.99E+00 | J5: 0.000 | K5: 1.03E-06 | L5: 3.00E-07 | M5: 8.80E-07 | N5: 4.80E-07
A6: Diesel <=7.5 t | B6: Conventional | C6: 1.85 | D6: 1.07 | E6: 4.70 | F6: 0.029 | G6: 0.0029 | H6: 6.47E-06 | I6: 4.86E-01 | J6: 0.333 | K6: 1.40E-06 | L6: 6.09E-06 | M6: 5.45E-06 | N6: 9.00E-07
A7: Diesel <=7.5 t | B7: HD Euro I - 91/542/EEC I | C7: 0.657 | D7: 0.193 | E7: 3.37 | F7: 0.005 | G7: 0.0029 | H7: 5.43E-06 | I7: 4.86E-01 | J7: 0.129 | K7: 1.40E-06 | L7: 6.09E-06 | M7: 5.45E-06 | N7: 9.00E-07
A8: Diesel <=7.5 t | B8: HD Euro II - 91/542/EEC II | C8: 0.537 | D8: 0.123 | E8: 3.49 | F8: 0.004 | G8: 0.0029 | H8: 5.22E-06 | I8: 4.86E-01 | J8: 0.061 | K8: 1.40E-06 | L8: 6.09E-06 | M8: 5.45E-06 | N8: 9.00E-07
A9: Diesel <=7.5 t | B9: HD Euro III - 2000 | C9: 0.584 | D9: 0.115 | E9: 2.63 | F9: 0.003 | G9: 0.0029 | H9: 5.47E-06 | I9: 4.86E-01 | J9: 0.0566 | K9: 1.40E-06 | L9: 6.09E-06 | M9: 5.45E-06 | N9: 9.00E-07
A10: Diesel <=7.5 t | B10: HD Euro IV - 2005 | C10: 0.047 | D10: 0.005 | E10: 1.64 | F10: 0.006 | G10: 0.0029 | H10: 5.17E-06 | I10: 4.86E-01 | J10: 0.0106 | K10: 1.40E-06 | L10: 6.09E-06 | M10: 5.45E-06 | N10: 9.00E-07
A11: Diesel <=7.5 t | B11: HD Euro V - 2008 | C11: 0.047 | D11: 0.005 | E11: 0.933 | F11: 0.017 | G11: 0.0029 | H11: 5.17E-06 | I11: 4.86E-01 | J11: 0.0106 | K11: 1.40E-06 | L11: 6.09E-06 | M11: 5.45E-06 | N11: 9.00E-07
A12: Diesel <=7.5 t | B12: HD Euro VI | C12: 0.047 | D12: 0.005 | E12: 0.180 | F12: 0.017 | G12: 0.0029 | H12: 5.17E-06 | I12: 4.86E-01 | J12: 0.0005 | K12: 1.40E-06 | L12: 6.09E-06 | M12: 5.45E-06 | N12: 9.00E-07
A13: Diesel 7.5 - 16 t | B13: Conventional | C13: 2.13 | D13: 0.776 | E13: 8.92 | F13: 0.029 | G13: 0.0029 | H13: 9.48E-06 | I13: 4.86E-01 | J13: 0.3344 | K13: 1.40E-06 | L13: 6.09E-06 | M13: 5.45E-06 | N13: 9.00E-07
A14: Diesel 7.5 - 16 t | B14: HD Euro I - 91/542/EEC I | C14: 1.02 | D14: 0.326 | E14: 5.31 | F14: 0.008 | G14: 0.0029 | H14: 8.36E-06 | I14: 4.86E-01 | J14: 0.201 | K14: 1.40E-06 | L14: 6.09E-06 | M14: 5.45E-06 | N14: 9.00E-07
A15: Diesel 7.5 - 16 t | B15: HD Euro II - 91/542/EEC II | C15: 0.902 | D15: 0.207 | E15: 5.50 | F15: 0.008 | G15: 0.0029 | H15: 8.05E-06 | I15: 4.86E-01 | J15: 0.104 | K15: 1.40E-06 | L15: 6.09E-06 | M15: 5.45E-06 | N15: 9.00E-07
A16: Diesel 7.5 - 16 t | B16: HD Euro III - 2000 | C16: 0.972 | D16: 0.189 | E16: 4.30 | F16: 0.004 | G16: 0.0029 | H16: 8.39E-06 | I16: 4.86E-01 | J16: 0.0881 | K16: 1.40E-06 | L16: 6.09E-06 | M16: 5.45E-06 | N16: 9.00E-07
... A33: Diesel >32 t | B33: HD Euro VI | C33: 0.121 | D33: 0.012 | E33: 0.507 | F33: 0.049 | G33: 0.0029 | H33: 1.26E-05 | I33: 4.86E-01 | J33: 0.0013 | K33: 1.40E-06 | L33: 6.09E-06 | M33: 5.45E-06 | N33: 9.00E-07

Sheet Lähtötiedot & asiakaslaskenta
A2: Ajoneuvon tiedot
A3: Ajoneuvoluokka | B3: 5
A4: Keskikulutus | B4: 52 | C4: l/100km
A5: Massa | B5: 30 | C5: t
A7: Kuljetustiedot
A8: Kilometrit kuormattuna | B8: =F42 -> 59 | C8: km
A9: Kokonaismassa reitillä | B9: =B45 -> 21 | C9: t
A10: Tonnikilometrit | B10: =SUM(D33:D42) -> 734 | C10: tkm
A11: Tyhjänä ajo | B11: =H43 -> 19 | C11: km
A13: Polttoaine
A14: Tiheys (diesel) | B14: 0.845 | C14: kg/l
A16: Päästökertoimet kiinteät
A17: CO2 | B17: 3.17 | C17: kg/kg
A18: CO2 Well to wheels* | B18: 4.05 | C18: kg/kg
A19: S | B19: =8*10^-3 -> 0.008 | C19: g/kg | D19: 1ppm=0,001 g/kg
A21: Päästökertoimet ajoneuvoluokan mukaan
A22: NOx | B22: 2.81 | C22: g/km
A23: HC | B23: 0.01 | C23: g/km
A24: CO | B24: 0.105 | C24: g/km
A25: PM | B25: 0.0239 | C25: g/km
A26: N2O | B26: 0.034 | C26: g/km
A27: NH3 | B27: 0.0029 | C27: g/km
A29: Asiakkaiden kuormat ja etäisyydet
A30: Asiakkaiden määrä | B30: 10
B31: Kuormaosuus | D31: AS. Kulj. Suorite | F31: Etäisyys lähtöpisteestä | H31: Etäisyys edellisestä | J31: Osuus kuljetussuoritteesta | K31: Osuus tyhjänäajosta
A32: Lähtö
A33: Asiakas 1 | B33: 0.9 | C33: t | D33: =B33*F33 -> 10.8 | E33: tkm | F33: 12 | G33: km | H33: =F33-F32 -> 12 | I33: km | J33: =B33*F33/$B$10 -> 0.014713896 | K33: =$H$43*1/$B$30 -> 1.9 | L33: km
A34: Asiakas 2 | B34: 2 | C34: t | D34: =B34*F34 -> 46 | E34: tkm | F34: 23 | G34: km | H34: =F34-F33 -> 11 | I34: km | J34: =B34*F34/$B$10 -> 0.0626703 | K34: =$H$43*1/$B$30 -> 1.9 | L34: km
A35: Asiakas 3 | B35: 1.5 | C35: t | D35: =B35*F35 -> 39 | E35: tkm | F35: 26 | G35: km | H35: =F35-F34 -> 3 | I35: km | J35: =B35*F35/$B$10 -> 0.053133515 | K35: =$H$43*1/$B$30 -> 1.9 | L35: km
A36: Asiakas 4 | B36: 5.7 | C36: t | D36: =B36*F36 -> 153.9 | E36: tkm | F36: 27 | G36: km | H36: =F36-F35 -> 1 | I36: km | J36: =B36*F36/$B$10 -> 0.20967302 | K36: =$H$43*1/$B$30 -> 1.9 | L36: km
A37: Asiakas 5 | B37: 1.2 | C37: t | D37: =B37*F37 -> 38.4 | E37: tkm | F37: 32 | G37: km | H37: =F37-F36 -> 5 | I37: km | J37: =B37*F37/$B$10 -> 0.052316076 | K37: =$H$43*1/$B$30 -> 1.9 | L37: km
A38: Asiakas 6 | B38: 3.5 | C38: t | D38: =B38*F38 -> 147 | E38: tkm | F38: 42 | G38: km | H38: =F38-F37 -> 10 | I38: km | J38: =B38*F38/$B$10 -> 0.20027248 | K38: =$H$43*1/$B$30 -> 1.9 | L38: km
A39: Asiakas 7 | B39: 3.8 | C39: t | D39: =B39*F39 -> 171 | E39: tkm | F39: 45 | G39: km | H39: =F39-F38 -> 3 | I39: km | J39: =B39*F39/$B$10 -> 0.23297003 | K39: =$H$43*1/$B$30 -> 1.9 | L39: km
A40: Asiakas 8 | B40: 1.1 | C40: t | D40: =B40*F40 -> 52.8 | E40: tkm | F40: 48 | G40: km | H40: =F40-F39 -> 3 | I40: km | J40: =B40*F40/$B$10 -> 0.071934605 | K40: =$H$43*1/$B$30 -> 1.9 | L40: km
A41: Asiakas 9 | B41: 0.8 | C41: t | D41: =B41*F41 -> 45.6 | E41: tkm | F41: 57 | G41: km | H41: =F41-F40 -> 9 | I41: km | J41: =B41*F41/$B$10 -> 0.062125341 | K41: =$H$43*1/$B$30 -> 1.9 | L41: km
A42: Asiakas 10 | B42: 0.5 | C42: t | D42: =B42*F42 -> 29.5 | E42: tkm | F42: 59 | G42: km | H42: =F42-F41 -> 2 | I42: km | J42: =B42*F42/$B$10 -> 0.040190736 | K42: =$H$43*1/$B$30 -> 1.9 | L42: km
A43: Paluu | F43: 78 | G43: km | H43: =F43-F42 -> 19 | I43: km
A45: Kokonaiskuorma | B45: =SUM(B33:B42) -> 21 | C45: t | D45: Kokonaiskilometrit | F45: =F43 -> 78 | G45: km

Sheet Laskenta
A1: Polttoaineen kulutus | B1: ='Lähtötiedot & asiakaslaskenta'!B4*('Lähtötiedot & asiakaslaskenta'!B8/100) -> 30.68 | C1: l
A2: Polttoainemäärä | B2: =B1*'Lähtötiedot & asiakaslaskenta'!B14 -> 25.9246 | C2: kg
A3: Polttoaineen kulutus tyhjänä ajo | B3: ='Lähtötiedot & asiakaslaskenta'!B4*('Lähtötiedot & asiakaslaskenta'!B11/100) -> 9.88 | C3: l
A4: Polttoainemäärä tyhänä ajo | B4: =B3*'Lähtötiedot & asiakaslaskenta'!B14 -> 8.3486 | C4: kg
A6: Päästömäärät reitille
A7: CO2 | B7: ='Lähtötiedot & asiakaslaskenta'!B17*Laskenta!B2 -> 82.180982 | C7: kg
A8: CO2 Well to wheels* | B8: ='Lähtötiedot & asiakaslaskenta'!B18*Laskenta!B2 -> 104.99463 | C8: kg
A9: S | B9: ='Lähtötiedot & asiakaslaskenta'!B19*Laskenta!B2*1000 -> 207.3968 | C9: ppm
A11: NOx | B11: ='Lähtötiedot & asiakaslaskenta'!$B$8*'Lähtötiedot & asiakaslaskenta'!B22 -> 165.79 | C11: g
A12: HC | B12: ='Lähtötiedot & asiakaslaskenta'!$B$8*'Lähtötiedot & asiakaslaskenta'!B23 -> 0.59 | C12: g
A13: CO | B13: ='Lähtötiedot & asiakaslaskenta'!$B$8*'Lähtötiedot & asiakaslaskenta'!B24 -> 6.195 | C13: g
A14: PM | B14: ='Lähtötiedot & asiakaslaskenta'!$B$8*'Lähtötiedot & asiakaslaskenta'!B25 -> 1.4101 | C14: g
A15: N2O | B15: ='Lähtötiedot & asiakaslaskenta'!$B$8*'Lähtötiedot & asiakaslaskenta'!B26 -> 2.006 | C15: g
A16: NH3 | B16: ='Lähtötiedot & asiakaslaskenta'!$B$8*'Lähtötiedot & asiakaslaskenta'!B27 -> 0.1711 | C16: g
A18: Tyhjänä ajo / asiakas
A19: CO2 | B19: =B4*'Lähtötiedot & asiakaslaskenta'!B17/'Lähtötiedot & asiakaslaskenta'!B30 -> 2.6465062 | C19: kg
A20: CO2 Well to wheels* | B20: =B4*'Lähtötiedot & asiakaslaskenta'!B18/'Lähtötiedot & asiakaslaskenta'!B30 -> 3.381183 | C20: kg
A21: S | B21: ='Lähtötiedot & asiakaslaskenta'!B19*Laskenta!B4/'Lähtötiedot & asiakaslaskenta'!B30 -> 0.00667888 | C21: ppm
A23: NOx | B23: ='Lähtötiedot & asiakaslaskenta'!B22*'Lähtötiedot & asiakaslaskenta'!$H$43/'Lähtötiedot & asiakaslaskenta'!$B$30 -> 5.339 | C23: g
A24: HC | B24: ='Lähtötiedot & asiakaslaskenta'!B23*'Lähtötiedot & asiakaslaskenta'!$H$43/'Lähtötiedot & asiakaslaskenta'!$B$30 -> 0.019 | C24: g
A25: CO | B25: ='Lähtötiedot & asiakaslaskenta'!B24*'Lähtötiedot & asiakaslaskenta'!$H$43/'Lähtötiedot & asiakaslaskenta'!$B$30 -> 0.1995 | C25: g
A26: PM | B26: ='Lähtötiedot & asiakaslaskenta'!B25*'Lähtötiedot & asiakaslaskenta'!$H$43/'Lähtötiedot & asiakaslaskenta'!$B$30 -> 0.04541 | C26: g
A27: N2O | B27: ='Lähtötiedot & asiakaslaskenta'!B26*'Lähtötiedot & asiakaslaskenta'!$H$43/'Lähtötiedot & asiakaslaskenta'!$B$30 -> 0.0646 | C27: g
A28: NH3 | B28: ='Lähtötiedot & asiakaslaskenta'!B27*'Lähtötiedot & asiakaslaskenta'!$H$43/'Lähtötiedot & asiakaslaskenta'!$B$30 -> 0.00551 | C28: g
A30: Asiakaskohtaiset päästöt
A31: Asiakas 1
A32: CO2 | B32: =B7*'Lähtötiedot & asiakaslaskenta'!$J$33+B19 -> 3.8557087 | C32: kg
A33: CO2 Well to wheels* | B33: =B8*'Lähtötiedot & asiakaslaskenta'!$J$33+B20 -> 4.9260631 | C33: kg
A34: S | B34: =B9*'Lähtötiedot & asiakaslaskenta'!$J$33+B21 -> 3.0582939 | C34: ppm
A36: NOx | B36: =B11*'Lähtötiedot & asiakaslaskenta'!$J$33+B23 -> 7.7784169 | C36: g
A37: HC | B37: =B12*'Lähtötiedot & asiakaslaskenta'!$J$33+B24 -> 0.027681199 | C37: g
A38: CO | B38: =B13*'Lähtötiedot & asiakaslaskenta'!$J$33+B25 -> 0.29065259 | C38: g
A39: PM | B39: =B14*'Lähtötiedot & asiakaslaskenta'!$J$33+B26 -> 0.066158065 | C39: g
A40: N2O | B40: =B15*'Lähtötiedot & asiakaslaskenta'!$J$33+B27 -> 0.094116076 | C40: g
A41: NH3 | B41: =B16*'Lähtötiedot & asiakaslaskenta'!$J$33+B28 -> 0.0080275477 | C41: g
A43: Asiakas 2
A44: CO2 | B44: =B7*'Lähtötiedot & asiakaslaskenta'!$J$34+B19 -> 7.796813 | C44: kg
A45: CO2 Well to wheels* | B45: =B8*'Lähtötiedot & asiakaslaskenta'!$J$34+B20 -> 9.9612279 | C45: kg
A46: S | B46: =B9*'Lähtötiedot & asiakaslaskenta'!$J$34+B21 -> 13.004298 | C46: ppm
A48: NOx | B48: =B11*'Lähtötiedot & asiakaslaskenta'!$J$34+B23 -> 15.729109 | C48: g
...

Sheet Taulukot raportille
A2: Asiakaskohtaiset
A4: Asiakas 1
A6: Ajanjakson kuljetustiedot | E6: Päästö | F6: Määrä | G6: Yksikkö
B7: Määrä | C7: Yksikkö | E7: CO2 | F7: =Laskenta!B32 -> 3.8557087 | G7: kg
A8: Kilometrit | B8: ='Lähtötiedot & asiakaslaskenta'!F33 -> 12 | C8: km | E8: CO2 Well to wheels* | F8: =Laskenta!B33 -> 4.9260631 | G8: kg
A9: Kuljetettu massa | B9: ='Lähtötiedot & asiakaslaskenta'!B33 -> 0.9 | C9: t | E9: NOx | F9: =Laskenta!B36 -> 7.7784169 | G9: g
A10: Kuljetussuorite | B10: ='Lähtötiedot & asiakaslaskenta'!D33 -> 10.8 | C10: tkm | E10: HC | F10: =Laskenta!B37 -> 0.027681199 | G10: g
E11: CO | F11: =Laskenta!B38 -> 0.29065259 | G11: g
E12: PM | F12: =Laskenta!B39 -> 0.066158065 | G12: g
E13: N2O | F13: =Laskenta!B40 -> 0.094116076 | G13: g
E14: NH3 | F14: =Laskenta!B41 -> 0.0080275477 | G14: g
E15: S | F15: =Laskenta!B34 -> 3.0582939 | G15: ppm
E16: *) Well to wheels ottaa huomioon polttoaineen valmistuksen aiheuttamat päästöt
A19: Asiakas 2
A21: Ajanjakson kuljetustiedot | E21: Päästö | F21: Määrä | G21: Yksikkö
B22: Määrä | C22: Yksikkö | E22: CO2 | F22: =Laskenta!B44 -> 7.796813 | G22: kg
A23: Kilometrit | B23: ='Lähtötiedot & asiakaslaskenta'!F34 -> 23 | C23: km | E23: CO2 Well to wheels* | F23: =Laskenta!B45 -> 9.9612279 | G23: kg
A24: Kuljetettu massa | B24: ='Lähtötiedot & asiakaslaskenta'!B34 -> 2 | C24: t | E24: NOx | F24: =Laskenta!B48 -> 15.729109 | G24: g
A25: Kuljetussuorite | B25: ='Lähtötiedot & asiakaslaskenta'!D34 -> 46 | C25: tkm | E25: HC | F25: =Laskenta!B49 -> 0.055975477 | G25: g
E26: CO | F26: =Laskenta!B50 -> 0.58774251 | G26: g
E27: PM | F27: =Laskenta!B51 -> 0.13378139 | G27: g
E28: N2O | F28: =Laskenta!B52 -> 0.19031662 | G28: g
E29: NH3 | F29: =Laskenta!B53 -> 0.016232888 | G29: g
E30: S | F30: =Laskenta!B46 -> 13.004298 | G30: ppm
E31: *) Well to wheels ottaa huomioon polttoaineen valmistuksen aiheuttamat päästöt
A34: Asiakas 3
A36: Ajanjakson kuljetustiedot | E36: Päästö | F36: Määrä | G36: Yksikkö
B37: Määrä | C37: Yksikkö | E37: CO2 | F37: =Laskenta!B56 -> 7.0130706 | G37: kg
A38: Kilometrit | B38: ='Lähtötiedot & asiakaslaskenta'!F35 -> 26 | C38: km | E38: CO2 Well to wheels* | F38: =Laskenta!B57 -> 8.9599167 | G38: kg
A39: Kuljetettu massa | B39: ='Lähtötiedot & asiakaslaskenta'!B35 -> 1.5 | C39: t | E39: NOx | F39: =Laskenta!B60 -> 14.148005 | G39: g
A40: Kuljetussuorite | B40: ='Lähtötiedot & asiakaslaskenta'!D35 -> 39 | C40: tkm | E40: HC | F40: =Laskenta!B61 -> 0.050348774 | G40: g
E41: CO | F41: =Laskenta!B62 -> 0.52866213 | G41: g
E42: PM | F42: =Laskenta!B63 -> 0.12033357 | G42: g
E43: N2O | F43: =Laskenta!B64 -> 0.17118583 | G43: g
E44: NH3 | F44: =Laskenta!B65 -> 0.014601144 | G44: g
E45: S | F45: =Laskenta!B58 -> 11.0264 | G45: ppm
E46: *) Well to wheels ottaa huomioon polttoaineen valmistuksen aiheuttamat päästöt
A49: Asiakas 4
A51: Ajanjakson kuljetustiedot | E51: Päästö | F51: Määrä | G51: Yksikkö
B52: Määrä | C52: Yksikkö | E52: CO2 | F52: =Laskenta!B68 -> 19.877641 | G52: kg
...
